BEGIN:VCALENDAR
VERSION:2.0
PRODID:-//CVA Angera - ECPv6.15.20//NONSGML v1.0//EN
CALSCALE:GREGORIAN
METHOD:PUBLISH
X-ORIGINAL-URL:https://cva-angera.it
X-WR-CALDESC:Eventi per CVA Angera
REFRESH-INTERVAL;VALUE=DURATION:PT1H
X-Robots-Tag:noindex
X-PUBLISHED-TTL:PT1H
BEGIN:VTIMEZONE
TZID:Europe/Rome
BEGIN:DAYLIGHT
TZOFFSETFROM:+0100
TZOFFSETTO:+0200
TZNAME:CEST
DTSTART:20240331T010000
END:DAYLIGHT
BEGIN:STANDARD
TZOFFSETFROM:+0200
TZOFFSETTO:+0100
TZNAME:CET
DTSTART:20241027T010000
END:STANDARD
BEGIN:DAYLIGHT
TZOFFSETFROM:+0100
TZOFFSETTO:+0200
TZNAME:CEST
DTSTART:20250330T010000
END:DAYLIGHT
BEGIN:STANDARD
TZOFFSETFROM:+0200
TZOFFSETTO:+0100
TZNAME:CET
DTSTART:20251026T010000
END:STANDARD
BEGIN:DAYLIGHT
TZOFFSETFROM:+0100
TZOFFSETTO:+0200
TZNAME:CEST
DTSTART:20260329T010000
END:DAYLIGHT
BEGIN:STANDARD
TZOFFSETFROM:+0200
TZOFFSETTO:+0100
TZNAME:CET
DTSTART:20261025T010000
END:STANDARD
BEGIN:DAYLIGHT
TZOFFSETFROM:+0100
TZOFFSETTO:+0200
TZNAME:CEST
DTSTART:20270328T010000
END:DAYLIGHT
BEGIN:STANDARD
TZOFFSETFROM:+0200
TZOFFSETTO:+0100
TZNAME:CET
DTSTART:20271031T010000
END:STANDARD
END:VTIMEZONE
BEGIN:VEVENT
DTSTART;TZID=Europe/Rome:20251101T000000
DTEND;TZID=Europe/Rome:20260909T000000
DTSTAMP:20260421T173128
CREATED:20251128T085924Z
LAST-MODIFIED:20251207T172403Z
UID:2031-1761955200-1788912000@cva-angera.it
SUMMARY:VUOI DIVENTARE VOLONTARIO?
DESCRIPTION:Purtroppo il nostro corso soccorritori è già iniziato e\, al momento\, non possiamo più inserirti…Ma niente panico! Le prossime edizioni stanno arrivando e vogliamo che tu abbia la priorità! \nRegistrarti ora ti garantisce due vantaggi importanti:✨ ti avviseremo tempestivamente quando apriremo le nuove iscrizioni✨ non rischierai di perderti la nuova edizione dei corsi \nÈ facilissimo: compila il form (Ci basta cognome\, nome\, email e telefono)  e fai un passo avanti rispetto a tutti gli altri. Saremo noi a contattarti con le novità\, senza che tu debba cercare altrove. \nNon perdere l’occasione di unirti alla prossima squadra di futuri soccorritori.Ti aspettiamo!
URL:https://cva-angera.it/event/vuoi-diventare-volontario-2/
LOCATION:VA
CATEGORIES:Corso Centralino,Corso SE,Corso TS
ATTACH;FMTTYPE=image/jpeg:https://cva-angera.it/wp-content/uploads/2024/10/36820636_633712940317806_997705544057749504_n.jpg
END:VEVENT
BEGIN:VEVENT
DTSTART;TZID=Europe/Rome:20260324T204500
DTEND;TZID=Europe/Rome:20260324T224500
DTSTAMP:20260421T173128
CREATED:20260208T150919Z
LAST-MODIFIED:20260208T152127Z
UID:2114-1774385100-1774392300@cva-angera.it
SUMMARY:112: Ieri\, Oggi e Domani
DESCRIPTION:Sai come funziona il Numero Unico di Emergenza 112? E come fa a sapere dove è successo un evento in cui serve soccorso urgente sfruttando la moderna tecnologia? Ti sei mai chiesto come è evoluto nel tempo e come evolverà in un’epoca in cui la tecnologia galoppa velocemente? Ne parleremo in questo incontro pubblico aperto alla popolazione (ma manche ai soccorritori) in cui interverranno il Dr. Claudio Mare (fondatore della AAT 118 Varese)\, il Dr. Guido Garzena (padre del NUE 112 Varese) e Simone Carradore (attuale responsabile del NUE 112 Varese). L’incontro è gratuito ma chiediamo la registrazione per motivi organizzativi. \n			\n			\n				\n				\n				\n				\n				\n				\n				\n				\n				\n				\n					\n					\n						 \n						Giorno(s) \n					\n						: \n					\n						 \n						Ore(s) \n					\n						: \n					\n						 \n						Minuto(i) \n					\n						: \n					\n						 \n						Second(s)
URL:https://cva-angera.it/event/112-ieri-oggi-e-domani/
LOCATION:Sala Serra Comune di Ispra\, Via Milite Ignoto\, 31\, Ispra\, VA\, 21027\, Italy
CATEGORIES:Altri eventi,corso per la popolazione
ATTACH;FMTTYPE=image/png:https://cva-angera.it/wp-content/uploads/2026/02/Serata-112b.png
END:VEVENT
END:VCALENDAR