BEGIN:VCALENDAR
VERSION:2.0
PRODID:-//CVA Angera - ECPv6.15.20//NONSGML v1.0//EN
CALSCALE:GREGORIAN
METHOD:PUBLISH
X-WR-CALNAME:CVA Angera
X-ORIGINAL-URL:https://cva-angera.it
X-WR-CALDESC:Eventi per CVA Angera
REFRESH-INTERVAL;VALUE=DURATION:PT1H
X-Robots-Tag:noindex
X-PUBLISHED-TTL:PT1H
BEGIN:VTIMEZONE
TZID:Europe/Rome
BEGIN:DAYLIGHT
TZOFFSETFROM:+0100
TZOFFSETTO:+0200
TZNAME:CEST
DTSTART:20240331T010000
END:DAYLIGHT
BEGIN:STANDARD
TZOFFSETFROM:+0200
TZOFFSETTO:+0100
TZNAME:CET
DTSTART:20241027T010000
END:STANDARD
BEGIN:DAYLIGHT
TZOFFSETFROM:+0100
TZOFFSETTO:+0200
TZNAME:CEST
DTSTART:20250330T010000
END:DAYLIGHT
BEGIN:STANDARD
TZOFFSETFROM:+0200
TZOFFSETTO:+0100
TZNAME:CET
DTSTART:20251026T010000
END:STANDARD
BEGIN:DAYLIGHT
TZOFFSETFROM:+0100
TZOFFSETTO:+0200
TZNAME:CEST
DTSTART:20260329T010000
END:DAYLIGHT
BEGIN:STANDARD
TZOFFSETFROM:+0200
TZOFFSETTO:+0100
TZNAME:CET
DTSTART:20261025T010000
END:STANDARD
BEGIN:DAYLIGHT
TZOFFSETFROM:+0100
TZOFFSETTO:+0200
TZNAME:CEST
DTSTART:20270328T010000
END:DAYLIGHT
BEGIN:STANDARD
TZOFFSETFROM:+0200
TZOFFSETTO:+0100
TZNAME:CET
DTSTART:20271031T010000
END:STANDARD
END:VTIMEZONE
BEGIN:VEVENT
DTSTART;TZID=Europe/Rome:20251101T000000
DTEND;TZID=Europe/Rome:20260909T000000
DTSTAMP:20260423T232532
CREATED:20251128T085924Z
LAST-MODIFIED:20251207T172403Z
UID:2031-1761955200-1788912000@cva-angera.it
SUMMARY:VUOI DIVENTARE VOLONTARIO?
DESCRIPTION:Purtroppo il nostro corso soccorritori è già iniziato e\, al momento\, non possiamo più inserirti…Ma niente panico! Le prossime edizioni stanno arrivando e vogliamo che tu abbia la priorità! \nRegistrarti ora ti garantisce due vantaggi importanti:✨ ti avviseremo tempestivamente quando apriremo le nuove iscrizioni✨ non rischierai di perderti la nuova edizione dei corsi \nÈ facilissimo: compila il form (Ci basta cognome\, nome\, email e telefono)  e fai un passo avanti rispetto a tutti gli altri. Saremo noi a contattarti con le novità\, senza che tu debba cercare altrove. \nNon perdere l’occasione di unirti alla prossima squadra di futuri soccorritori.Ti aspettiamo!
URL:https://cva-angera.it/event/vuoi-diventare-volontario-2/
LOCATION:VA
CATEGORIES:Corso Centralino,Corso SE,Corso TS
ATTACH;FMTTYPE=image/jpeg:https://cva-angera.it/wp-content/uploads/2024/10/36820636_633712940317806_997705544057749504_n.jpg
END:VEVENT
BEGIN:VEVENT
DTSTART;TZID=Europe/Rome:20260113T204500
DTEND;TZID=Europe/Rome:20260113T224500
DTSTAMP:20260423T232532
CREATED:20251109T200946Z
LAST-MODIFIED:20251109T201850Z
UID:2023-1768337100-1768344300@cva-angera.it
SUMMARY:CORSO DI DISOSTRUZIONE PEDIATRICA
DESCRIPTION:Ogni anno circa 1000 pazienti pediatrici giungono in ospedale per ostruzione delle vie aeree. Il Corso di Disostruzione Pediatrica si rivolge a genitori\, nonni e a tutti coloro che hanno la responsabilità di un infante o di bambino. \nIl corso\, tenuto da istruttori ANPAS e AREU del Corpo Volontari Ambulanza\, è suddiviso in una prima parte teorica a cui segue una parte addestrativa sui manichini. \nIn caso il bambino sia presente è fortemente consigliato che siano iscritte due persone della stessa famiglia per poter accudire il bambino a turno in caso di necessità o durante la prova pratica. \nIl corso è gratuito con offerta libera che verrà destinata all’acquisto di materiale formativo.\n			\n			\n				\n				\n				\n				\n				\n				\n				\n				\n				\n				\n					\n					\n						 \n						Giorno(s) \n					\n						: \n					\n						 \n						Ore(s) \n					\n						: \n					\n						 \n						Minuto(i) \n					\n						: \n					\n						 \n						Second(s)
URL:https://cva-angera.it/event/corso-di-disostruzione-pediatrica-6/
LOCATION:Sala Civica Marchetti\, Via F. Cavallotti\, 10\, Vergiate\, Varese\, 21029\, Italy
CATEGORIES:Corso pediatrico,corso per la popolazione
ATTACH;FMTTYPE=image/jpeg:https://cva-angera.it/wp-content/uploads/2024/09/WhatsApp-Image-2024-07-02-at-21.33.03-1.jpeg
END:VEVENT
BEGIN:VEVENT
DTSTART;TZID=Europe/Rome:20260123T204500
DTEND;TZID=Europe/Rome:20260123T223000
DTSTAMP:20260423T232532
CREATED:20260106T171244Z
LAST-MODIFIED:20260106T171326Z
UID:2095-1769201100-1769207400@cva-angera.it
SUMMARY:SALOTTO COL CIELO - Narrazione e testimonianze sul confine tra vita e luce
DESCRIPTION:Presentazione del libro “Il battito periodico delle palpebre – Tutta la luce che i tuoi occhi vedranno”  \nIn una ventosa mattina di marzo\, Francesca sfila la coperta dal dorso del suo cavallo: nell’aria elettrica l’animale impenna.Nella notte\, le conseguenze della caduta si complicano. Francesca\, disancorata dalla coscienza\, vive un’esperienza ai confini della vita\, sfiorando vette celesti e testimoniando il proseguimento dell’esistenza oltre il percorso terreno. Questa è una storia realmente accaduta. \nAlessandra Benetatos dialoga con l’autrice Elisa Origi sul sottile confine tra vita e morte\, coscienza e Aldilà. \nIngresso libero \n			\n			\n				\n				\n				\n				\n				\n				\n				\n				\n				\n				\n					\n					\n						 \n						Giorno(s) \n					\n						: \n					\n						 \n						Ore(s) \n					\n						: \n					\n						 \n						Minuto(i) \n					\n						: \n					\n						 \n						Second(s)
URL:https://cva-angera.it/event/salotto-con-cielo/
LOCATION:Sala Corsi CVA\, Via Fontana Mora 24\, Sesto Calende\, Varese\, 21018\, Italy
CATEGORIES:Altri eventi
ATTACH;FMTTYPE=image/png:https://cva-angera.it/wp-content/uploads/2026/01/Senzanome.png
END:VEVENT
BEGIN:VEVENT
DTSTART;TZID=Europe/Rome:20260124T083000
DTEND;TZID=Europe/Rome:20260124T133000
DTSTAMP:20260423T232532
CREATED:20251109T003058Z
LAST-MODIFIED:20251109T201729Z
UID:2019-1769243400-1769261400@cva-angera.it
SUMMARY:CORSO USO DEFIBRILLATORE (DAE/PAD)
DESCRIPTION:Con rilascio attestato ai sensi di Legge 120 del 03/04/2001\, DGR 10306 del 16/09/2002\, DM 18/03/2011\, DGR 2869 del 29/12/2011 e DGR 4717 del 23/01/20 \nOgni anno\, in Italia\, circa 60.000 cittadini muoiono in conseguenza di un arresto cardiaco\, a insorgenza spesso talmente improvvisa da non essere preceduto da alcun sintomo o segno premonitore.\nL’Arresto Cardiocircolatorio (ACC) è una situazione nella quale il cuore cessa le proprie funzioni\, di solito in modo improvviso\, causando la morte del soggetto che ne è colpito.\nLa conseguenza immediata dell’ACC è l’assenza di circolazione. La mancanza di ossigeno a cuore e cervello porta rapidamente a morte il paziente se non tempestivamente trattato. La carenza di ossigeno al cervello produce infatti lesioni che possono diventare irreversibili già dopo 4-6 minuti di assenza di circolo. Le possibilità di prevenire questo danno dipendono dalla rapidità e dall’efficacia delle procedure di soccorso riassumibili nella corretta applicazione della Catena della Sopravvivenza.\nLa sopravvivenza per questo evento è inferiore al 10%. La letteratura scientifica internazionale ha però dimostrato che un soccorso tempestivo e corretto in caso di arresto cardiaco improvviso\, contribuisce a salvare fino al 30% delle persone colpite. E’ definita Rianimazione Cardio-Polmonare (RCP) l’insieme delle manovre atte a mantenere le funzioni vitali supportando artificialmente la circolazione e\, se possibile\, la ventilazione.\nE’ essenziale che le prime manovre di soccorso\, in primo luogo le Compressioni Toraciche Esterne (CTE)\, siano eseguite il prima possibile anche da parte di personale non sanitario (laico) perché rappresentano uno degli elementi principali che favoriscono la sopravvivenza di una persona colpita da ACC.\nA questo primo e fondamentale trattamento può aggiungersi l’utilizzo di un Defibrillatore semi-Automatico Esterno (DAE)\, che consente anche a personale non sanitario di erogare una scarica elettrica stabilita automaticamente dal DAE. La defibrillazione consente\, infatti\, di interrompere l’aritmia più pericolosa\, la Fibrillazione Ventricolare (FV)\, e le Compressioni Toraciche Esterne (CTE) aiutano a mantenere vitali gli organi “nobili” (cuore e cervello) della vittima.\nLa scarsa conoscenza delle manovre di primo soccorso da parte della popolazione riduce sia le probabilità di sopravvivenza delle vittime colpite da arresto cardiaco\, sia le possibilità di limitare eventuali esiti invalidanti. Per queste ragioni è necessario che le tecniche di base di rianimazione cardio-polmonare diventino un bagaglio di conoscenza comune e diffusa\, e che sia tempestivamente disponibile un DAE al fine di non spezzare la sequenza di interventi delineati nella “Catena della Sopravvivenza”.\nBastano poche ore di formazione per apprendere le manovre di base di rianimazione cardiopolmonare.\nObiettivo di questo Corso è fornire queste nozioni al comune cittadino (chiamato\, per convenzione\, “laico”)\, integrate anche con il trattamento dell’arresto cardiaco in età pediatrica e dell’ostruzione delle vie aeree da corpo estraneo\, di solito parte di eventi formativi separati. \nLezione teorica frontale ed addestramento pratico in isole. Rapporto istruttore ed allievi è di uno a cinque\, massimo uno a sei. \nLa valutazione non prevede test teorico ma solo pratico \nPer informazioni: Federico 333 301 9367 (ore past\, anche whatsapp/telegram)\n			\n			\n				\n				\n				\n				\n				\n				\n				\n				\n				\n				\n					\n					\n						 \n						Giorno(s) \n					\n						: \n					\n						 \n						Ore(s) \n					\n						: \n					\n						 \n						Minuto(i) \n					\n						: \n					\n						 \n						Second(s)
URL:https://cva-angera.it/event/corso-uso-defibrillatore-dae-pad-6/
LOCATION:Sala Corsi CVA\, Via Fontana Mora 24\, Sesto Calende\, Varese\, 21018\, Italy
CATEGORIES:Corso BLS-D/PAD,corso per la popolazione
ATTACH;FMTTYPE=image/jpeg:https://cva-angera.it/wp-content/uploads/2024/10/DAE01.jpg
END:VEVENT
BEGIN:VEVENT
DTSTART;TZID=Europe/Rome:20260206T203000
DTEND;TZID=Europe/Rome:20260206T223000
DTSTAMP:20260423T232532
CREATED:20251207T185314Z
LAST-MODIFIED:20251207T190009Z
UID:2052-1770409800-1770417000@cva-angera.it
SUMMARY:CORSO PER ADDETTO ALLA GESTIONE DEI SERVIZI NON URGENTI
DESCRIPTION:Il corso fornisce le basi per gestire le chiamate non urgenti (dimissioni\, trasporti per visite\, ricoveri programmati\, trasferimenti…) in arrivo presso la sede\, gestirne l’inserimento nell’apposito gestionale e coordinare le attività dei mezzi sul territorio. \nIl corso si svolgerà mercoledì in un unico ciclo a cui seguiranno i tirocini pratici presso la sede di Angera dove verrà\, successivamente\, effettuato il servizio. \n  \n			\n			\n				\n				\n				\n				\n				\n				\n				\n				\n				\n				\n					\n					\n						 \n						Giorno(s) \n					\n						: \n					\n						 \n						Ore(s) \n					\n						: \n					\n						 \n						Minuto(i) \n					\n						: \n					\n						 \n						Second(s)
URL:https://cva-angera.it/event/corso-per-addetto-ai-servizi-non-urgenti-2/
LOCATION:Sala corsi CVA – Sesto Calende\, Via Fontana Mora\, 24\, Sesto Calende\, Varese\, 21018\, Italy
CATEGORIES:Corso Centralino
ATTACH;FMTTYPE=image/jpeg:https://cva-angera.it/wp-content/uploads/2024/09/CVA-Centralinista.jpg
END:VEVENT
BEGIN:VEVENT
DTSTART;TZID=Europe/Rome:20260210T204500
DTEND;TZID=Europe/Rome:20260210T224500
DTSTAMP:20260423T232532
CREATED:20251207T173426Z
LAST-MODIFIED:20251207T173509Z
UID:2043-1770756300-1770763500@cva-angera.it
SUMMARY:CORSO DI DISOSTRUZIONE PEDIATRICA
DESCRIPTION:Ogni anno circa 1000 pazienti pediatrici giungono in ospedale per ostruzione delle vie aeree. Il Corso di Disostruzione Pediatrica si rivolge a genitori\, nonni e a tutti coloro che hanno la responsabilità di un infante o di bambino. \nIl corso\, tenuto da istruttori ANPAS e AREU del Corpo Volontari Ambulanza\, è suddiviso in una prima parte teorica a cui segue una parte addestrativa sui manichini. \nIn caso il bambino sia presente è fortemente consigliato che siano iscritte due persone della stessa famiglia per poter accudire il bambino a turno in caso di necessità o durante la prova pratica. \nIl corso è gratuito con offerta libera che verrà destinata all’acquisto di materiale formativo.\n			\n			\n				\n				\n				\n				\n				\n				\n				\n				\n				\n				\n					\n					\n						 \n						Giorno(s) \n					\n						: \n					\n						 \n						Ore(s) \n					\n						: \n					\n						 \n						Minuto(i) \n					\n						: \n					\n						 \n						Second(s)
URL:https://cva-angera.it/event/corso-di-disostruzione-pediatrica-7/
LOCATION:Comune di Cadrezzate\, via Vittorio Veneto 29\, Cadrezzate con Osmate\, Varese\, 21062\, Italy
CATEGORIES:Corso pediatrico,corso per la popolazione
ATTACH;FMTTYPE=image/jpeg:https://cva-angera.it/wp-content/uploads/2024/09/WhatsApp-Image-2024-07-02-at-21.33.03-1.jpeg
END:VEVENT
BEGIN:VEVENT
DTSTART;TZID=Europe/Rome:20260221T083000
DTEND;TZID=Europe/Rome:20260221T133000
DTSTAMP:20260423T232532
CREATED:20251207T175014Z
LAST-MODIFIED:20260217T123511Z
UID:2046-1771662600-1771680600@cva-angera.it
SUMMARY:CORSO USO DEFIBRILLATORE (DAE/PAD)
DESCRIPTION:Con rilascio attestato ai sensi di Legge 120 del 03/04/2001\, DGR 10306 del 16/09/2002\, DM 18/03/2011\, DGR 2869 del 29/12/2011 e DGR 4717 del 23/01/20 \n60000: è questo il numero di cittadini italiani che ogni anno muoiono in conseguenza di un arresto cardiaco\, a insorgenza spesso talmente improvvisa da non essere preceduto da alcun sintomo o segno premonitore. Risulta pertanto fondamentale conoscere le tecniche di rianimazione cardiopolmonare (RCP) a cui può aggiungersi l’utilizzo di un Defibrillatore semi-Automatico Esterno (DAE) che permette anche al personale non sanitario di erogare una scarica elettrica stabilita automaticamente dal DAE. \nLa scarsa conoscenza delle manovre di primo soccorso da parte della popolazione riduce sia le probabilità di sopravvivenza delle vittime colpite da arresto cardiaco\, sia le possibilità di limitare eventuali esiti invalidanti. Per queste ragioni è necessario che le tecniche di base di rianimazione cardio-polmonare diventino un bagaglio di conoscenza comune e diffusa. \nObiettivo di questo corso è fornire al comune cittadino (chiamato\, per convenzione\, “laico”)\, le nozioni per \n\nsaper allertare correttamente il numero unico di emergenza 112\nsaper eseguire una rianimazione cardiopolmonare di alta qualità\nsaper utilizzare il defibrillatore in sicurezza\nSaper effettuare le manovre di disostruzione delle vie aeree\n\nLezione teorica frontale ed addestramento pratico in isole con rapporto istruttore ed allievi è di uno a cinque\, massimo uno a sei. \nLa valutazione non prevede test teorico ma solo pratico \nPer informazioni: Federico 333 301 9367 (ore past\, anche whatsapp/telegram) \n			\n			\n				\n				\n				\n				\n				\n				\n				\n				\n				\n				\n					\n					\n						 \n						Giorno(s) \n					\n						: \n					\n						 \n						Ore(s) \n					\n						: \n					\n						 \n						Minuto(i) \n					\n						: \n					\n						 \n						Second(s)
URL:https://cva-angera.it/event/corso-uso-defibrillatore-dae-pad-7/
LOCATION:Sala Corsi CVA\, Via Fontana Mora 24\, Sesto Calende\, Varese\, 21018\, Italy
CATEGORIES:Corso BLS-D/PAD,corso per la popolazione
ATTACH;FMTTYPE=image/jpeg:https://cva-angera.it/wp-content/uploads/2024/10/DAE01.jpg
END:VEVENT
BEGIN:VEVENT
DTSTART;TZID=Europe/Rome:20260303T204500
DTEND;TZID=Europe/Rome:20260303T224500
DTSTAMP:20260423T232532
CREATED:20260106T162509Z
LAST-MODIFIED:20260106T162513Z
UID:2091-1772570700-1772577900@cva-angera.it
SUMMARY:CORSO DI DISOSTRUZIONE PEDIATRICA
DESCRIPTION:Ogni anno circa 1000 pazienti pediatrici giungono in ospedale per ostruzione delle vie aeree. Il Corso di Disostruzione Pediatrica si rivolge a genitori\, nonni e a tutti coloro che hanno la responsabilità di un infante o di bambino. \nIl corso\, tenuto da istruttori ANPAS e AREU del Corpo Volontari Ambulanza\, è suddiviso in una prima parte teorica a cui segue una parte addestrativa sui manichini. \nIn caso il bambino sia presente è fortemente consigliato che siano iscritte due persone della stessa famiglia per poter accudire il bambino a turno in caso di necessità o durante la prova pratica. \nIl corso è gratuito con offerta libera che verrà destinata all’acquisto di materiale formativo.\n			\n			\n				\n				\n				\n				\n				\n				\n				\n				\n				\n				\n					\n					\n						 \n						Giorno(s) \n					\n						: \n					\n						 \n						Ore(s) \n					\n						: \n					\n						 \n						Minuto(i) \n					\n						: \n					\n						 \n						Second(s)
URL:https://cva-angera.it/event/corso-di-disostruzione-pediatrica-8/
LOCATION:Sala Polivalente Comune di Mercallo\, Via Prandoni\, 97\, Mercallo\, Varese\, 21020\, Italy
CATEGORIES:Corso pediatrico,corso per la popolazione
ATTACH;FMTTYPE=image/jpeg:https://cva-angera.it/wp-content/uploads/2024/09/WhatsApp-Image-2024-07-02-at-21.33.03-1.jpeg
END:VEVENT
BEGIN:VEVENT
DTSTART;TZID=Europe/Rome:20260321T083000
DTEND;TZID=Europe/Rome:20260321T133000
DTSTAMP:20260423T232532
CREATED:20251207T175146Z
LAST-MODIFIED:20260209T185810Z
UID:2050-1774081800-1774099800@cva-angera.it
SUMMARY:CORSO USO DEFIBRILLATORE (DAE/PAD)
DESCRIPTION:Con rilascio attestato ai sensi di Legge 120 del 03/04/2001\, DGR 10306 del 16/09/2002\, DM 18/03/2011\, DGR 2869 del 29/12/2011 e DGR 4717 del 23/01/20 \n60000: è questo il numero di cittadini italiani che ogni anno muoiono in conseguenza di un arresto cardiaco\, a insorgenza spesso talmente improvvisa da non essere preceduto da alcun sintomo o segno premonitore. Risulta pertanto fondamentale conoscere le tecniche di rianimazione cardiopolmonare (RCP) a cui può aggiungersi l’utilizzo di un Defibrillatore semi-Automatico Esterno (DAE) che permette anche al personale non sanitario di erogare una scarica elettrica stabilita automaticamente dal DAE. \nLa scarsa conoscenza delle manovre di primo soccorso da parte della popolazione riduce sia le probabilità di sopravvivenza delle vittime colpite da arresto cardiaco\, sia le possibilità di limitare eventuali esiti invalidanti. Per queste ragioni è necessario che le tecniche di base di rianimazione cardio-polmonare diventino un bagaglio di conoscenza comune e diffusa. \nObiettivo di questo corso è fornire al comune cittadino (chiamato\, per convenzione\, “laico”)\, le nozioni per \n\nsaper allertare correttamente il numero unico di emergenza 112\nsaper eseguire una rianimazione cardiopolmonare di alta qualità\nsaper utilizzare il defibrillatore in sicurezza\nSaper effettuare le manovre di disostruzione delle vie aeree\n\nLezione teorica frontale ed addestramento pratico in isole con rapporto istruttore ed allievi è di uno a cinque\, massimo uno a sei. \nLa valutazione non prevede test teorico ma solo pratico \nPer informazioni: Federico 333 301 9367 (ore past\, anche whatsapp/telegram) \nCosto formazione: 50€Costo aggiornamento: 30€ (occorre presentarsi con l’attestato) \nPuoi pagare tramite il pulsate qui sotto con Paypal oppure tramite bonifico bancario \n			\n			\n				\n				\n				\n				\n				\n				\n				\n				\n				\n				\n					\n					\n						 \n						Giorno(s) \n					\n						: \n					\n						 \n						Ore(s) \n					\n						: \n					\n						 \n						Minuto(i) \n					\n						: \n					\n						 \n						Second(s) \n					\n				\n			\n			\n				\n				\n				\n				\n			\n				\n				\n				\n				\n				\n				\n				\n				\n				\n				\n				\n\n  \n  \n   Con tecnologia \n\n			\n			\n				\n				\n				\n				\n				\n				\n				\n				\n				\n				BENEFICIARIO: C.V.A. CORPO VOLONTARI AMBULANZAIBAN: IT70V0306909606100000120097 – BANCA INTESACAUSALE DEL BONIFICO: OBLAZIONE LIBERALE
URL:https://cva-angera.it/event/corso-uso-defibrillatore-dae-pad-8/
LOCATION:Sala Corsi CVA\, Via Fontana Mora 24\, Sesto Calende\, Varese\, 21018\, Italy
CATEGORIES:Corso BLS-D/PAD,corso per la popolazione
ATTACH;FMTTYPE=image/jpeg:https://cva-angera.it/wp-content/uploads/2024/10/DAE01.jpg
END:VEVENT
BEGIN:VEVENT
DTSTART;TZID=Europe/Rome:20260324T204500
DTEND;TZID=Europe/Rome:20260324T224500
DTSTAMP:20260423T232532
CREATED:20260208T150919Z
LAST-MODIFIED:20260208T152127Z
UID:2114-1774385100-1774392300@cva-angera.it
SUMMARY:112: Ieri\, Oggi e Domani
DESCRIPTION:Sai come funziona il Numero Unico di Emergenza 112? E come fa a sapere dove è successo un evento in cui serve soccorso urgente sfruttando la moderna tecnologia? Ti sei mai chiesto come è evoluto nel tempo e come evolverà in un’epoca in cui la tecnologia galoppa velocemente? Ne parleremo in questo incontro pubblico aperto alla popolazione (ma manche ai soccorritori) in cui interverranno il Dr. Claudio Mare (fondatore della AAT 118 Varese)\, il Dr. Guido Garzena (padre del NUE 112 Varese) e Simone Carradore (attuale responsabile del NUE 112 Varese). L’incontro è gratuito ma chiediamo la registrazione per motivi organizzativi. \n			\n			\n				\n				\n				\n				\n				\n				\n				\n				\n				\n				\n					\n					\n						 \n						Giorno(s) \n					\n						: \n					\n						 \n						Ore(s) \n					\n						: \n					\n						 \n						Minuto(i) \n					\n						: \n					\n						 \n						Second(s)
URL:https://cva-angera.it/event/112-ieri-oggi-e-domani/
LOCATION:Sala Serra Comune di Ispra\, Via Milite Ignoto\, 31\, Ispra\, VA\, 21027\, Italy
CATEGORIES:Altri eventi,corso per la popolazione
ATTACH;FMTTYPE=image/png:https://cva-angera.it/wp-content/uploads/2026/02/Serata-112b.png
END:VEVENT
BEGIN:VEVENT
DTSTART;TZID=Europe/Rome:20260414T204500
DTEND;TZID=Europe/Rome:20260414T224500
DTSTAMP:20260423T232532
CREATED:20260208T151110Z
LAST-MODIFIED:20260208T151115Z
UID:2118-1776199500-1776206700@cva-angera.it
SUMMARY:CORSO DI DISOSTRUZIONE PEDIATRICA
DESCRIPTION:Ogni anno circa 1000 pazienti pediatrici giungono in ospedale per ostruzione delle vie aeree. Il Corso di Disostruzione Pediatrica si rivolge a genitori\, nonni e a tutti coloro che hanno la responsabilità di un infante o di bambino. \nIl corso\, tenuto da istruttori ANPAS e AREU del Corpo Volontari Ambulanza\, è suddiviso in una prima parte teorica a cui segue una parte addestrativa sui manichini. \nIn caso il bambino sia presente è fortemente consigliato che siano iscritte due persone della stessa famiglia per poter accudire il bambino a turno in caso di necessità o durante la prova pratica. \nIl corso è gratuito con offerta libera che verrà destinata all’acquisto di materiale formativo.\n			\n			\n				\n				\n				\n				\n				\n				\n				\n				\n				\n				\n					\n					\n						 \n						Giorno(s) \n					\n						: \n					\n						 \n						Ore(s) \n					\n						: \n					\n						 \n						Minuto(i) \n					\n						: \n					\n						 \n						Second(s)
URL:https://cva-angera.it/event/corso-di-disostruzione-pediatrica-9/
LOCATION:Sala Serra Comune di Ispra\, Via Milite Ignoto\, 31\, Ispra\, VA\, 21027\, Italy
CATEGORIES:Corso pediatrico,corso per la popolazione
ATTACH;FMTTYPE=image/jpeg:https://cva-angera.it/wp-content/uploads/2024/09/WhatsApp-Image-2024-07-02-at-21.33.03-1.jpeg
END:VEVENT
BEGIN:VEVENT
DTSTART;TZID=Europe/Rome:20260418T140000
DTEND;TZID=Europe/Rome:20260418T190000
DTSTAMP:20260423T232532
CREATED:20260106T122039Z
LAST-MODIFIED:20260106T122112Z
UID:2088-1776520800-1776538800@cva-angera.it
SUMMARY:CORSO USO DEFIBRILLATORE (DAE/PAD)
DESCRIPTION:Con rilascio attestato ai sensi di Legge 120 del 03/04/2001\, DGR 10306 del 16/09/2002\, DM 18/03/2011\, DGR 2869 del 29/12/2011 e DGR 4717 del 23/01/20 \n60000: è questo il numero di cittadini italiani che ogni anno muoiono in conseguenza di un arresto cardiaco\, a insorgenza spesso talmente improvvisa da non essere preceduto da alcun sintomo o segno premonitore. Risulta pertanto fondamentale conoscere le tecniche di rianimazione cardiopolmonare (RCP) a cui può aggiungersi l’utilizzo di un Defibrillatore semi-Automatico Esterno (DAE) che permette anche al personale non sanitario di erogare una scarica elettrica stabilita automaticamente dal DAE. \nLa scarsa conoscenza delle manovre di primo soccorso da parte della popolazione riduce sia le probabilità di sopravvivenza delle vittime colpite da arresto cardiaco\, sia le possibilità di limitare eventuali esiti invalidanti. Per queste ragioni è necessario che le tecniche di base di rianimazione cardio-polmonare diventino un bagaglio di conoscenza comune e diffusa. \nObiettivo di questo corso è fornire al comune cittadino (chiamato\, per convenzione\, “laico”)\, le nozioni per \n\nsaper allertare correttamente il numero unico di emergenza 112\nsaper eseguire una rianimazione cardiopolmonare di alta qualità\nsaper utilizzare il defibrillatore in sicurezza\nSaper effettuare le manovre di disostruzione delle vie aeree\n\nLezione teorica frontale ed addestramento pratico in isole con rapporto istruttore ed allievi è di uno a cinque\, massimo uno a sei. \nLa valutazione non prevede test teorico ma solo pratico \nPer informazioni: Federico 333 301 9367 (ore pasti\, anche whatsapp/telegram) \n			\n			\n				\n				\n				\n				\n				\n				\n				\n				\n				\n				\n					\n					\n						 \n						Giorno(s) \n					\n						: \n					\n						 \n						Ore(s) \n					\n						: \n					\n						 \n						Minuto(i) \n					\n						: \n					\n						 \n						Second(s)
URL:https://cva-angera.it/event/corso-uso-defibrillatore-dae-pad-9/
LOCATION:Sala Corsi CVA\, Via Fontana Mora 24\, Sesto Calende\, Varese\, 21018\, Italy
CATEGORIES:Corso BLS-D/PAD,corso per la popolazione
ATTACH;FMTTYPE=image/jpeg:https://cva-angera.it/wp-content/uploads/2024/10/DAE01.jpg
END:VEVENT
BEGIN:VEVENT
DTSTART;TZID=Europe/Rome:20260509T093000
DTEND;TZID=Europe/Rome:20260509T113000
DTSTAMP:20260423T232532
CREATED:20260305T210934Z
LAST-MODIFIED:20260305T211223Z
UID:2143-1778319000-1778326200@cva-angera.it
SUMMARY:CORSO DI DISOSTRUZIONE PEDIATRICA
DESCRIPTION:Ogni anno circa 1000 pazienti pediatrici giungono in ospedale per ostruzione delle vie aeree. Il Corso di Disostruzione Pediatrica si rivolge a genitori\, nonni e a tutti coloro che hanno la responsabilità di un infante o di bambino. \nIl corso\, tenuto da istruttori ANPAS e AREU del Corpo Volontari Ambulanza\, è suddiviso in una prima parte teorica a cui segue una parte addestrativa sui manichini. \nIn caso il bambino sia presente è fortemente consigliato che siano iscritte due persone della stessa famiglia per poter accudire il bambino a turno in caso di necessità o durante la prova pratica. \nIl corso è gratuito con offerta libera che verrà destinata all’acquisto di materiale formativo.\n			\n			\n				\n				\n				\n				\n				\n				\n				\n				\n				\n				\n					\n					\n						 \n						Giorno(s) \n					\n						: \n					\n						 \n						Ore(s) \n					\n						: \n					\n						 \n						Minuto(i) \n					\n						: \n					\n						 \n						Second(s)
URL:https://cva-angera.it/event/corso-di-disostruzione-pediatrica-10/
LOCATION:Centro Baroncini\, Via Carlo Cattaneo\, 3\, Sesto Calende\, VA\, 21018\, Italy
CATEGORIES:Corso pediatrico,corso per la popolazione
ATTACH;FMTTYPE=image/jpeg:https://cva-angera.it/wp-content/uploads/2024/09/WhatsApp-Image-2024-07-02-at-21.33.03-1.jpeg
END:VEVENT
BEGIN:VEVENT
DTSTART;TZID=Europe/Rome:20260523T083000
DTEND;TZID=Europe/Rome:20260523T133000
DTSTAMP:20260423T232532
CREATED:20260305T210534Z
LAST-MODIFIED:20260305T210541Z
UID:2141-1779525000-1779543000@cva-angera.it
SUMMARY:CORSO USO DEFIBRILLATORE (DAE/PAD)
DESCRIPTION:Con rilascio attestato ai sensi di Legge 120 del 03/04/2001\, DGR 10306 del 16/09/2002\, DM 18/03/2011\, DGR 2869 del 29/12/2011 e DGR 4717 del 23/01/20 \n60000: è questo il numero di cittadini italiani che ogni anno muoiono in conseguenza di un arresto cardiaco\, a insorgenza spesso talmente improvvisa da non essere preceduto da alcun sintomo o segno premonitore. Risulta pertanto fondamentale conoscere le tecniche di rianimazione cardiopolmonare (RCP) a cui può aggiungersi l’utilizzo di un Defibrillatore semi-Automatico Esterno (DAE) che permette anche al personale non sanitario di erogare una scarica elettrica stabilita automaticamente dal DAE. \nLa scarsa conoscenza delle manovre di primo soccorso da parte della popolazione riduce sia le probabilità di sopravvivenza delle vittime colpite da arresto cardiaco\, sia le possibilità di limitare eventuali esiti invalidanti. Per queste ragioni è necessario che le tecniche di base di rianimazione cardio-polmonare diventino un bagaglio di conoscenza comune e diffusa. \nObiettivo di questo corso è fornire al comune cittadino (chiamato\, per convenzione\, “laico”)\, le nozioni per \n\nsaper allertare correttamente il numero unico di emergenza 112\nsaper eseguire una rianimazione cardiopolmonare di alta qualità\nsaper utilizzare il defibrillatore in sicurezza\nSaper effettuare le manovre di disostruzione delle vie aeree\n\nLezione teorica frontale ed addestramento pratico in isole con rapporto istruttore ed allievi è di uno a cinque\, massimo uno a sei. \nLa valutazione non prevede test teorico ma solo pratico \nPer informazioni: Federico 333 301 9367 (ore pasti\, anche whatsapp/telegram) \n			\n			\n				\n				\n				\n				\n				\n				\n				\n				\n				\n				\n					\n					\n						 \n						Giorno(s) \n					\n						: \n					\n						 \n						Ore(s) \n					\n						: \n					\n						 \n						Minuto(i) \n					\n						: \n					\n						 \n						Second(s)
URL:https://cva-angera.it/event/corso-uso-defibrillatore-dae-pad-10/
LOCATION:Sala Corsi CVA\, Via Fontana Mora 24\, Sesto Calende\, Varese\, 21018\, Italy
CATEGORIES:Corso BLS-D/PAD,corso per la popolazione
ATTACH;FMTTYPE=image/jpeg:https://cva-angera.it/wp-content/uploads/2024/10/DAE01.jpg
END:VEVENT
END:VCALENDAR