BEGIN:VCALENDAR
VERSION:2.0
PRODID:-//CVA Angera - ECPv6.15.20//NONSGML v1.0//EN
CALSCALE:GREGORIAN
METHOD:PUBLISH
X-WR-CALNAME:CVA Angera
X-ORIGINAL-URL:https://cva-angera.it
X-WR-CALDESC:Eventi per CVA Angera
REFRESH-INTERVAL;VALUE=DURATION:PT1H
X-Robots-Tag:noindex
X-PUBLISHED-TTL:PT1H
BEGIN:VTIMEZONE
TZID:Europe/Rome
BEGIN:DAYLIGHT
TZOFFSETFROM:+0100
TZOFFSETTO:+0200
TZNAME:CEST
DTSTART:20240331T010000
END:DAYLIGHT
BEGIN:STANDARD
TZOFFSETFROM:+0200
TZOFFSETTO:+0100
TZNAME:CET
DTSTART:20241027T010000
END:STANDARD
BEGIN:DAYLIGHT
TZOFFSETFROM:+0100
TZOFFSETTO:+0200
TZNAME:CEST
DTSTART:20250330T010000
END:DAYLIGHT
BEGIN:STANDARD
TZOFFSETFROM:+0200
TZOFFSETTO:+0100
TZNAME:CET
DTSTART:20251026T010000
END:STANDARD
BEGIN:DAYLIGHT
TZOFFSETFROM:+0100
TZOFFSETTO:+0200
TZNAME:CEST
DTSTART:20260329T010000
END:DAYLIGHT
BEGIN:STANDARD
TZOFFSETFROM:+0200
TZOFFSETTO:+0100
TZNAME:CET
DTSTART:20261025T010000
END:STANDARD
END:VTIMEZONE
BEGIN:VEVENT
DTSTART;TZID=Europe/Rome:20250927T083000
DTEND;TZID=Europe/Rome:20250927T133000
DTSTAMP:20260421T191047
CREATED:20250810T102830Z
LAST-MODIFIED:20250909T065909Z
UID:1859-1758961800-1758979800@cva-angera.it
SUMMARY:FORMAZIONE/AGGIORNAMENTO USO DEFIBRILLATORE (DAE/PAD) - Edizione giornata del cuore
DESCRIPTION:Rilasciato attestato ai sensi di Legge 120 del 03/04/2001\, DGR 10306 del 16/09/2002\, DM 18/03/2011\, DGR 2869 del 29/12/2011 e DGR 4717 del 23/01/20 \n			\n				\n				\n				\n				\n				In occasione della giornata mondiale del cuore che sarà lunedì 29 settembre 2025\, CVA Angera aderisce alla giornata e organizza un corso gratuito sull’utilizzo del defibrillatore. \nRicordiamo infatti che ogni anno\, solo in Italia\, 60000 persone vengono colte da arresto cardiaco improvviso.Fai in modo di fare la differenza\, impara queste semplici manovre che aiuteranno a salvare una vita!!! \n			\n			\n				\n				\n				\n				\n				\n				\n				\n				\n				\n				\n					\n					\n						 \n						Giorno(s) \n					\n						: \n					\n						 \n						Ore(s) \n					\n						: \n					\n						 \n						Minuto(i) \n					\n						: \n					\n						 \n						Second(s)
URL:https://cva-angera.it/event/formazione-aggiornamento-uso-defibrillatore-dae-pad-edizione-giornata-del-cuore/
LOCATION:Sala Corsi CVA\, Via Fontana Mora 24\, Sesto Calende\, Varese\, 21018\, Italy
CATEGORIES:Corso BLS-D/PAD,corso per la popolazione
ATTACH;FMTTYPE=image/jpeg:https://cva-angera.it/wp-content/uploads/2025/08/DAE-WHD.jpg
END:VEVENT
BEGIN:VEVENT
DTSTART;TZID=Europe/Rome:20250928T083000
DTEND;TZID=Europe/Rome:20250928T130000
DTSTAMP:20260421T191047
CREATED:20250911T201103Z
LAST-MODIFIED:20250911T201108Z
UID:1896-1759048200-1759064400@cva-angera.it
SUMMARY:FACILE DAE - GIORNATA MONDIALE DEL CUORE 2025
DESCRIPTION:La Giornata Mondiale per il Cuore (che sarà il 29/09)\,  coordinata in Italia dall’Associazione Italiana Cuore e Rianimazione Onlus\,  propone attività\, sensibilizzazione e prevenzione in oltre 100 piazze d’Italia. \nIl CVA aderisce organizzando una mattinata in cui saremo presenti in piazza per la misurazione dei parametri vitali e per illustrare la semplicità delle manovre salvavita (Massaggio Cardiaco e uso del defibrillatore). \nPassate a salutarci! \n \n			\n			\n				\n				\n				\n				\n				\n				\n				\n				\n				\n				\n					\n					\n						 \n						Giorno(s) \n					\n						: \n					\n						 \n						Ore(s) \n					\n						: \n					\n						 \n						Minuto(i) \n					\n						: \n					\n						 \n						Second(s)
URL:https://cva-angera.it/event/facile-dae-giornata-mondiale-del-cuore-2025/
LOCATION:Lungolago di Sesto Calende\, Viale Italia\, Sesto Calende\, 21018\, Italy
CATEGORIES:corso per la popolazione
ATTACH;FMTTYPE=image/png:https://cva-angera.it/wp-content/uploads/2025/09/—Pngtree—world-heart-day-celebrating-a_21000253.png
END:VEVENT
END:VCALENDAR